BEGIN:VCALENDAR
VERSION:2.0
PRODID:-//South East TREC - ECPv6.11.2//NONSGML v1.0//EN
CALSCALE:GREGORIAN
METHOD:PUBLISH
X-WR-CALNAME:South East TREC
X-ORIGINAL-URL:https://setrec.org.uk
X-WR-CALDESC:Events for South East TREC
REFRESH-INTERVAL;VALUE=DURATION:PT1H
X-Robots-Tag:noindex
X-PUBLISHED-TTL:PT1H
BEGIN:VTIMEZONE
TZID:Europe/London
BEGIN:DAYLIGHT
TZOFFSETFROM:+0000
TZOFFSETTO:+0100
TZNAME:BST
DTSTART:20250330T010000
END:DAYLIGHT
BEGIN:STANDARD
TZOFFSETFROM:+0100
TZOFFSETTO:+0000
TZNAME:GMT
DTSTART:20251026T010000
END:STANDARD
END:VTIMEZONE
BEGIN:VEVENT
DTSTART;VALUE=DATE:20250201
DTEND;VALUE=DATE:20250202
DTSTAMP:20260420T160842
CREATED:20240926T104608Z
LAST-MODIFIED:20250113T092657Z
UID:267-1738368000-1738454399@setrec.org.uk
SUMMARY:Arena TREC Competition - Willow Farm
DESCRIPTION:Contact: rigshill.trec@gmail.com
URL:https://setrec.org.uk/event/arena-trec-competition-5/
LOCATION:Willow Farm Equestrian\, Hanslett's Ln\, Faversham\, ME13 0RS\, United Kingdom
END:VEVENT
BEGIN:VEVENT
DTSTART;TZID=Europe/London:20250201T080000
DTEND;TZID=Europe/London:20250201T170000
DTSTAMP:20260420T160842
CREATED:20250107T152029Z
LAST-MODIFIED:20250107T152029Z
UID:590-1738396800-1738429200@setrec.org.uk
SUMMARY:Willow Farm Schedule
DESCRIPTION:Willow Farm Winter Series 2024.25 – Schedule February 25
URL:https://setrec.org.uk/event/willow-farm-schedule/
LOCATION:Kent
END:VEVENT
BEGIN:VEVENT
DTSTART;TZID=Europe/London:20250201T100000
DTEND;TZID=Europe/London:20250201T160000
DTSTAMP:20260420T160842
CREATED:20241230T114128Z
LAST-MODIFIED:20250110T192247Z
UID:556-1738404000-1738425600@setrec.org.uk
SUMMARY:TREC GB Judge Training
DESCRIPTION:Join us for TREC GB Judge training\, to include classroom discussion on POR\, MA & PTV judging requirements and procedures followed by an afternoon practical MA/PTV session with the Willow Farm Arena TREC competition. \nTo become a probationary judge\, you must be a minimum of a TREC GB Supporter member https://trecgb.com/join-trec-gb/ Following successful sign-off at competitions (3 of each\, POR/MA/PTV) you become a qualified TREC GB Judge. More information on the TREC GB Officials progression can be found at https://trecgb.com/officials-and-volunteers/ \nLimited numbers of the current rulebook will be available for purchase on the day for £6.50. The training day is otherwise subsidised by South East TREC\, please bring along your own lunch and refreshments. \nPlease use the Contact form or email info@ to book your place
URL:https://setrec.org.uk/event/trec-gb-judge-training/
LOCATION:Willow Farm Equestrian\, Hanslett's Ln\, Faversham\, ME13 0RS\, United Kingdom
END:VEVENT
END:VCALENDAR