BEGIN:VCALENDAR
VERSION:2.0
PRODID:-//South East TREC - ECPv6.11.2//NONSGML v1.0//EN
CALSCALE:GREGORIAN
METHOD:PUBLISH
X-WR-CALNAME:South East TREC
X-ORIGINAL-URL:https://setrec.org.uk
X-WR-CALDESC:Events for South East TREC
REFRESH-INTERVAL;VALUE=DURATION:PT1H
X-Robots-Tag:noindex
X-PUBLISHED-TTL:PT1H
BEGIN:VTIMEZONE
TZID:Europe/London
BEGIN:DAYLIGHT
TZOFFSETFROM:+0000
TZOFFSETTO:+0100
TZNAME:BST
DTSTART:20250330T010000
END:DAYLIGHT
BEGIN:STANDARD
TZOFFSETFROM:+0100
TZOFFSETTO:+0000
TZNAME:GMT
DTSTART:20251026T010000
END:STANDARD
END:VTIMEZONE
BEGIN:VEVENT
DTSTART;TZID=Europe/London:20250204T190000
DTEND;TZID=Europe/London:20250204T210000
DTSTAMP:20260420T160843
CREATED:20250109T081715Z
LAST-MODIFIED:20250110T192402Z
UID:595-1738695600-1738702800@setrec.org.uk
SUMMARY:Map Club
DESCRIPTION:Join us from 7pm for a look at maps\, discussion on pens\, route copying techniques\, equipment and anything else you want to ask. \nPlease use the Contact form or email info@ to book your place \n 
URL:https://setrec.org.uk/event/map-club/
LOCATION:The Blacksmiths Arms\, TN24 0NA\, Ashford\, TN24 0NA\, United Kingdom
END:VEVENT
END:VCALENDAR