BEGIN:VCALENDAR
VERSION:2.0
PRODID:-//South East TREC - ECPv6.11.2//NONSGML v1.0//EN
CALSCALE:GREGORIAN
METHOD:PUBLISH
X-WR-CALNAME:South East TREC
X-ORIGINAL-URL:https://setrec.org.uk
X-WR-CALDESC:Events for South East TREC
REFRESH-INTERVAL;VALUE=DURATION:PT1H
X-Robots-Tag:noindex
X-PUBLISHED-TTL:PT1H
BEGIN:VTIMEZONE
TZID:Europe/London
BEGIN:DAYLIGHT
TZOFFSETFROM:+0000
TZOFFSETTO:+0100
TZNAME:BST
DTSTART:20260329T010000
END:DAYLIGHT
BEGIN:STANDARD
TZOFFSETFROM:+0100
TZOFFSETTO:+0000
TZNAME:GMT
DTSTART:20261025T010000
END:STANDARD
END:VTIMEZONE
BEGIN:VEVENT
DTSTART;TZID=Europe/London:20260419T100000
DTEND;TZID=Europe/London:20260419T160000
DTSTAMP:20260421T092904
CREATED:20260207T220113Z
LAST-MODIFIED:20260207T220113Z
UID:1066-1776592800-1776614400@setrec.org.uk
SUMMARY:Judge Training
DESCRIPTION:Join us for Judge training\, covering all roles and aspects of TREC judging. \nFree for SETG members\, you will need an up to date rulebook available from the TREC GB webshop delivered to your home. \nFurther details to follow. \n 
URL:https://setrec.org.uk/event/judge-training/
LOCATION:Catsfield\, East Sussex\, Catsfield\, East Sussex
END:VEVENT
END:VCALENDAR