BEGIN:VCALENDAR
VERSION:2.0
PRODID:-//South East TREC - ECPv6.11.2//NONSGML v1.0//EN
CALSCALE:GREGORIAN
METHOD:PUBLISH
X-WR-CALNAME:South East TREC
X-ORIGINAL-URL:https://setrec.org.uk
X-WR-CALDESC:Events for South East TREC
REFRESH-INTERVAL;VALUE=DURATION:PT1H
X-Robots-Tag:noindex
X-PUBLISHED-TTL:PT1H
BEGIN:VTIMEZONE
TZID:Europe/London
BEGIN:DAYLIGHT
TZOFFSETFROM:+0000
TZOFFSETTO:+0100
TZNAME:BST
DTSTART:20250330T010000
END:DAYLIGHT
BEGIN:STANDARD
TZOFFSETFROM:+0100
TZOFFSETTO:+0000
TZNAME:GMT
DTSTART:20251026T010000
END:STANDARD
BEGIN:DAYLIGHT
TZOFFSETFROM:+0000
TZOFFSETTO:+0100
TZNAME:BST
DTSTART:20260329T010000
END:DAYLIGHT
BEGIN:STANDARD
TZOFFSETFROM:+0100
TZOFFSETTO:+0000
TZNAME:GMT
DTSTART:20261025T010000
END:STANDARD
END:VTIMEZONE
BEGIN:VEVENT
DTSTART;VALUE=DATE:20260125
DTEND;VALUE=DATE:20260126
DTSTAMP:20260419T170323
CREATED:20250628T115200Z
LAST-MODIFIED:20250628T115200Z
UID:805-1769299200-1769385599@setrec.org.uk
SUMMARY:Arena TREC Competition\, Bodiam
DESCRIPTION:Contact – claremccullough7@gmail.com
URL:https://setrec.org.uk/event/arena-trec-competition-bodiam-7/
LOCATION:Bodiam International Arena\, Bodiam\, Robertsbridge\, TN32 5UJ\, United Kingdom
ORGANIZER;CN="Clare McCullough":MAILTO:claremccullough7@gmail.com
END:VEVENT
BEGIN:VEVENT
DTSTART;VALUE=DATE:20260103
DTEND;VALUE=DATE:20260104
DTSTAMP:20260419T170323
CREATED:20250628T115507Z
LAST-MODIFIED:20251211T102611Z
UID:818-1767398400-1767484799@setrec.org.uk
SUMMARY:Willow Farm Arena TREC
DESCRIPTION:Willow Farm schedule 03Jan26
URL:https://setrec.org.uk/event/willow-farm-arena-trec-4/
LOCATION:Willow Farm Equestrian\, Hanslett's Ln\, Faversham\, ME13 0RS\, United Kingdom
ORGANIZER;CN="Tina Cobourn":MAILTO:rigshilltrec@gmail.com
END:VEVENT
BEGIN:VEVENT
DTSTART;VALUE=DATE:20251214
DTEND;VALUE=DATE:20251215
DTSTAMP:20260419T170323
CREATED:20250903T154755Z
LAST-MODIFIED:20250903T154755Z
UID:873-1765670400-1765756799@setrec.org.uk
SUMMARY:Sands Farm Arena TREC
DESCRIPTION:
URL:https://setrec.org.uk/event/sands-farm-arena-trec-3/
LOCATION:Sands Farm Equitation Centre\, Sands Farm\, Northlands Rd\, Warnham\, Horsham\, RH12 3SQ\, United Kingdom
ORGANIZER;CN="Jenny Snowdon":MAILTO:jenny.snowdon@btopenworld.com
END:VEVENT
BEGIN:VEVENT
DTSTART;VALUE=DATE:20251206
DTEND;VALUE=DATE:20251207
DTSTAMP:20260419T170323
CREATED:20250628T115452Z
LAST-MODIFIED:20251015T114650Z
UID:816-1764979200-1765065599@setrec.org.uk
SUMMARY:Willow Farm Arena TREC - Cancelled
DESCRIPTION:Schedule to follow
URL:https://setrec.org.uk/event/willow-farm-arena-trec-3/
LOCATION:Willow Farm Equestrian\, Hanslett's Ln\, Faversham\, ME13 0RS\, United Kingdom
ORGANIZER;CN="Tina Cobourn":MAILTO:rigshilltrec@gmail.com
END:VEVENT
BEGIN:VEVENT
DTSTART;VALUE=DATE:20251123
DTEND;VALUE=DATE:20251124
DTSTAMP:20260419T170323
CREATED:20250628T115132Z
LAST-MODIFIED:20251002T193435Z
UID:803-1763856000-1763942399@setrec.org.uk
SUMMARY:Arena TREC Competition\, Bodiam
DESCRIPTION:Contact – claremccullough7@gmail.com
URL:https://setrec.org.uk/event/arena-trec-competition-bodiam-6/
LOCATION:Bodiam International Arena\, Bodiam\, Robertsbridge\, TN32 5UJ\, United Kingdom
ORGANIZER;CN="Clare McCullough":MAILTO:claremccullough7@gmail.com
END:VEVENT
BEGIN:VEVENT
DTSTART;VALUE=DATE:20251109
DTEND;VALUE=DATE:20251110
DTSTAMP:20260419T170323
CREATED:20250628T114824Z
LAST-MODIFIED:20251015T212813Z
UID:796-1762646400-1762732799@setrec.org.uk
SUMMARY:Tracer training
DESCRIPTION:TREC GB is running Day One\, Tracer Day of a TD training course at Blackheath\, Surrey on Sunday 9th November 2025. \nThis course is open to all members who wish to act as a tracer as well as qualified judges who want to train as TDs\, or as a TD refresher  and forms the first part of the two day TD course. The cost of the course is £25 for the Tracer day (FOC for those attending as a TD refresher). \nThe course aims to help tracers understand the differences between each level in TREC\, what is required to set a good POR\, what challenges should be provided for riders at each level and to try to ensure uniformity of technical difficulty to all levels of competition across the UK.\nFormat of the day: \n\nRegistration and coffee from 9.30am\, to start at 10am.\nBreaks during the day for tea/coffee and a lunch break.\nCourse to finish at around 4pm.\n\nIt will be classroom based with some practical outside work. Please bring whatever you usually use to draw maps\, set grids and bearings\, plus a packed lunch. Tea/coffee\, biscuits etc will be provided.  If you wish to attend the Tracer Day at Blackheath\, please fill in the form [via the button below] and arrange payment no later than Sunday 2nd November. \nIf you are unable to attend on the 9th November but would like to attend a future Tracer day\, please register your interest in future dates/locations by emailing admin@trecgb.com. \nApply for Tracer Training here
URL:https://setrec.org.uk/event/tracer-training/
LOCATION:Blackheath Village Hall\, Blackheath\, Surrey\, GU4 8RA
END:VEVENT
BEGIN:VEVENT
DTSTART;VALUE=DATE:20251101
DTEND;VALUE=DATE:20251102
DTSTAMP:20260419T170323
CREATED:20250628T115437Z
LAST-MODIFIED:20251010T103034Z
UID:814-1761955200-1762041599@setrec.org.uk
SUMMARY:Willow Farm Arena TREC
DESCRIPTION:Willow Farm schedule 01Nov25
URL:https://setrec.org.uk/event/willow-farm-arena-trec-2/
LOCATION:Willow Farm Equestrian\, Hanslett's Ln\, Faversham\, ME13 0RS\, United Kingdom
ORGANIZER;CN="Tina Cobourn":MAILTO:rigshilltrec@gmail.com
END:VEVENT
BEGIN:VEVENT
DTSTART;VALUE=DATE:20251012
DTEND;VALUE=DATE:20251013
DTSTAMP:20260419T170323
CREATED:20250903T154655Z
LAST-MODIFIED:20250903T154655Z
UID:871-1760227200-1760313599@setrec.org.uk
SUMMARY:Sands Farm Arena TREC
DESCRIPTION:
URL:https://setrec.org.uk/event/sands-farm-arena-trec-2/
LOCATION:Sands Farm Equitation Centre\, Sands Farm\, Northlands Rd\, Warnham\, Horsham\, RH12 3SQ\, United Kingdom
ORGANIZER;CN="Jenny Snowdon":MAILTO:jenny.snowdon@btopenworld.com
END:VEVENT
BEGIN:VEVENT
DTSTART;TZID=Europe/London:20251010T080000
DTEND;TZID=Europe/London:20251010T170000
DTSTAMP:20260419T170323
CREATED:20251010T101251Z
LAST-MODIFIED:20251010T101251Z
UID:974-1760083200-1760115600@setrec.org.uk
SUMMARY:Willow Farm - Schedule
DESCRIPTION:Willow Farm schedule 01Nov25
URL:https://setrec.org.uk/event/willow-farm-schedule-3/
LOCATION:Kent
END:VEVENT
BEGIN:VEVENT
DTSTART;VALUE=DATE:20251004
DTEND;VALUE=DATE:20251005
DTSTAMP:20260419T170323
CREATED:20250908T113429Z
LAST-MODIFIED:20250908T113429Z
UID:880-1759536000-1759622399@setrec.org.uk
SUMMARY:Schedule
DESCRIPTION:Willow Farm schedule 04Oct25
URL:https://setrec.org.uk/event/schedule/
LOCATION:Kent
END:VEVENT
BEGIN:VEVENT
DTSTART;VALUE=DATE:20251004
DTEND;VALUE=DATE:20251005
DTSTAMP:20260419T170323
CREATED:20250628T115421Z
LAST-MODIFIED:20250628T115421Z
UID:811-1759536000-1759622399@setrec.org.uk
SUMMARY:Willow Farm Arena TREC
DESCRIPTION:Schedule to follow
URL:https://setrec.org.uk/event/willow-farm-arena-trec/
LOCATION:Willow Farm Equestrian\, Hanslett's Ln\, Faversham\, ME13 0RS\, United Kingdom
ORGANIZER;CN="Tina Cobourn":MAILTO:rigshilltrec@gmail.com
END:VEVENT
BEGIN:VEVENT
DTSTART;VALUE=DATE:20250920
DTEND;VALUE=DATE:20250921
DTSTAMP:20260419T170323
CREATED:20250628T113502Z
LAST-MODIFIED:20250920T204753Z
UID:792-1758326400-1758412799@setrec.org.uk
SUMMARY:Faversham & District Riding Club Knowler Farm TREC
DESCRIPTION:A one day qualifier for the 2026 National Championships at Levels 1 & 2. \n**Please contact us with queries by 6pm on Sunday 21st September 2025 using the contact us button or email info@setrec.org.uk** \nCOMPETITORS INFORMATION SHEET \nKNOWLER FARM TREC – ALL TIMES \nKnowler_Farm_TREC-25-09-20_Preliminary_result_PTV_level_2 \nKnowler_Farm_TREC-25-09-20_Preliminary_result_PTV_level_1 \nKnowler_Farm_TREC-25-09-20_Preliminary_result_POR_level_2 \nKnowler_Farm_TREC-25-09-20_Preliminary_result_POR_level_1 \nKnowler_Farm_TREC-25-09-20_Preliminary_result_MA_level_2 \nKnowler_Farm_TREC-25-09-20_Preliminary_result_MA_level_1 \n    \n 
URL:https://setrec.org.uk/event/faversham-district-riding-club-knowler-farm-trec/
LOCATION:Knowler Farm\, Stelling Minnis CT4 6AD\, CT4 6AD\, United Kingdom
ORGANIZER;CN="F&DRC":MAILTO:chrissysutton115@gmail.com
END:VEVENT
BEGIN:VEVENT
DTSTART;TZID=Europe/London:20250915T080000
DTEND;TZID=Europe/London:20250915T170000
DTSTAMP:20260419T170323
CREATED:20250915T104254Z
LAST-MODIFIED:20250915T104432Z
UID:909-1757923200-1757955600@setrec.org.uk
SUMMARY:Sands Farm Entry Form
DESCRIPTION:Sands Farm Arena TREC Entry Form 12.10.25Sands Farm Arena TREC Schedule 12.10.25 V1
URL:https://setrec.org.uk/event/sands-farm-schedule/
LOCATION:Kent
END:VEVENT
BEGIN:VEVENT
DTSTART;TZID=Europe/London:20250818T190000
DTEND;TZID=Europe/London:20250818T200000
DTSTAMP:20260419T170323
CREATED:20250714T194637Z
LAST-MODIFIED:20250714T194637Z
UID:833-1755543600-1755547200@setrec.org.uk
SUMMARY:Online Championships map geeking
DESCRIPTION:Short\, online map geeking get together for riders heading to the Championships\, looking at the OS and aerial maps of the area. Including Q&A what to expect for newer riders. Contact Us or email info@ to register interest and receive meeting link.
URL:https://setrec.org.uk/event/online-championships-map-geeking/
LOCATION:Kent
END:VEVENT
BEGIN:VEVENT
DTSTART;TZID=Europe/London:20250812T183000
DTEND;TZID=Europe/London:20250812T203000
DTSTAMP:20260419T170323
CREATED:20250714T191611Z
LAST-MODIFIED:20250714T191611Z
UID:830-1755023400-1755030600@setrec.org.uk
SUMMARY:On foot pre-Championships practice
DESCRIPTION:Meeting at Pluckley\, Kent in the playground car park behind the Black Horse (currently not serving food\, but open for refreshments) \nWe will provide a blank map of this area and suggested approx 4km route in an area not too dissimilar to Winwick. Copy your route\, and head out to practice your navigation skills in small groups. For all levels\, please let me know (using the Contact Us form\, info@ email) what level you are intending to ride at so that I can provide suitable options & bring along enough copies. \nPost walk refreshment in the pub optional. There will be some climb\, aka contour practice\, unless you opt for setting your own route. Bring your map marking kit and compass. Leg cover & walking boots advisable due to vegetation in places. \nThis is primarily aimed at riders heading to the championships\, but open to all who want to explore the area and practice their navigation skills.
URL:https://setrec.org.uk/event/on-foot-pre-championships-practice/
LOCATION:Pluckley\, Pluckley Play Ground\, TN27 0QS
END:VEVENT
BEGIN:VEVENT
DTSTART;VALUE=DATE:20250802
DTEND;VALUE=DATE:20250803
DTSTAMP:20260419T170323
CREATED:20250303T182309Z
LAST-MODIFIED:20250605T075308Z
UID:701-1754092800-1754179199@setrec.org.uk
SUMMARY:Priory Court Farm TREC
DESCRIPTION:One day Summer Series Level 1\, 2 & 2a League and Qualifier for 2025 National Championships\, held at Winwick Hall\, Northamptonshire over 22nd-24th August. \nCorralling available by arrangement with the venue\, see details in the schedule. \nSETG Priory Court Farm Schedule 2 August 2025
URL:https://setrec.org.uk/event/priory-court-farm-trec/
LOCATION:Priory Court Farm\, Sayerland Lane\, Polegate\, East Sussex\, BN26 6QX
END:VEVENT
BEGIN:VEVENT
DTSTART;VALUE=DATE:20250511
DTEND;VALUE=DATE:20250512
DTSTAMP:20260419T170323
CREATED:20241110T124312Z
LAST-MODIFIED:20250508T181652Z
UID:386-1746921600-1747007999@setrec.org.uk
SUMMARY:Denne Hill Summer TREC
DESCRIPTION:Denne Hill schedule May 2025. final \nOne day Summer Series Level 1 & 2 League and Qualifier for 2025 National Championships \nTo be held at the Denne Hill Estate\, Kent \nDenne Hill Start Times Final \nDenne Hill TREC – Competitor info FINAL \nDenne Hill Natural Low Branches \nDenne Hill site plan 2025
URL:https://setrec.org.uk/event/denne-hill-summer-trec/
LOCATION:Denne Hill Estate\, CT4 6HD
END:VEVENT
BEGIN:VEVENT
DTSTART;VALUE=DATE:20250413
DTEND;VALUE=DATE:20250414
DTSTAMP:20260419T170323
CREATED:20250311T115207Z
LAST-MODIFIED:20250311T115207Z
UID:719-1744502400-1744588799@setrec.org.uk
SUMMARY:Sands Farm Arena TREC
DESCRIPTION:Full Arena TREC with added classes – In Hand\, Starters\, Pairs \nFinal competition of this series with Championship for all classes. \nPlease download the schedule and separate entry form (Word) from South East TREC Facebook page under Files
URL:https://setrec.org.uk/event/sands-farm-arena-trec/
LOCATION:Sands Farm Equitation Centre\, Sands Farm\, Northlands Rd\, Warnham\, Horsham\, RH12 3SQ\, United Kingdom
END:VEVENT
BEGIN:VEVENT
DTSTART;VALUE=DATE:20250406
DTEND;VALUE=DATE:20250407
DTSTAMP:20260419T170323
CREATED:20250310T204949Z
LAST-MODIFIED:20250310T210043Z
UID:710-1743897600-1743983999@setrec.org.uk
SUMMARY:PTV & MA training at Street Farm
DESCRIPTION:Street Farm Trec training April 6th 2025 – Copy
URL:https://setrec.org.uk/event/ptv-ma-training-at-street-farm/
LOCATION:Street Farm\, Rochester Rd\, Burham\, Rochester\, Kent\, ME1 3RL\, United Kingdom
END:VEVENT
BEGIN:VEVENT
DTSTART;VALUE=DATE:20250406
DTEND;VALUE=DATE:20250407
DTSTAMP:20260419T170323
CREATED:20241114T195037Z
LAST-MODIFIED:20241114T195133Z
UID:403-1743897600-1743983999@setrec.org.uk
SUMMARY:EATG TREC Competition
DESCRIPTION:
URL:https://setrec.org.uk/event/eatg-trec-competition/
LOCATION:Brook Farm RDA\, Radwinter
END:VEVENT
BEGIN:VEVENT
DTSTART;VALUE=DATE:20250330
DTEND;VALUE=DATE:20250331
DTSTAMP:20260419T170323
CREATED:20241114T194659Z
LAST-MODIFIED:20241114T194659Z
UID:401-1743292800-1743379199@setrec.org.uk
SUMMARY:EATG TREC Training
DESCRIPTION:
URL:https://setrec.org.uk/event/eatg-trec-training-2/
LOCATION:Kent
END:VEVENT
BEGIN:VEVENT
DTSTART;VALUE=DATE:20250330
DTEND;VALUE=DATE:20250331
DTSTAMP:20260419T170323
CREATED:20240926T104809Z
LAST-MODIFIED:20250228T173220Z
UID:277-1743292800-1743379199@setrec.org.uk
SUMMARY:Arena TREC competition - Sands Farm EC
DESCRIPTION:The schedule is available from www.trecgb.com or on South East TREC Group Facebook page under files. There’s a separate Word format entry form. \nContact – jenny.snowdon@btopenworld.com
URL:https://setrec.org.uk/event/arena-trec-competition-sands-farm-ec-4/
LOCATION:Sands Farm Equitation Centre\, Sands Farm\, Northlands Rd\, Warnham\, Horsham\, RH12 3SQ\, United Kingdom
END:VEVENT
BEGIN:VEVENT
DTSTART;VALUE=DATE:20250323
DTEND;VALUE=DATE:20250324
DTSTAMP:20260419T170323
CREATED:20240926T104754Z
LAST-MODIFIED:20240926T104754Z
UID:275-1742688000-1742774399@setrec.org.uk
SUMMARY:Arena TREC Competition\, Bodiam
DESCRIPTION:Contact – claremccullough7@gmail.com
URL:https://setrec.org.uk/event/arena-trec-competition-bodiam-4/
LOCATION:Bodiam International Arena\, Bodiam\, Robertsbridge\, TN32 5UJ\, United Kingdom
END:VEVENT
BEGIN:VEVENT
DTSTART;TZID=Europe/London:20250316T110000
DTEND;TZID=Europe/London:20250316T140000
DTSTAMP:20260419T170323
CREATED:20241114T194521Z
LAST-MODIFIED:20250303T181546Z
UID:399-1742122800-1742133600@setrec.org.uk
SUMMARY:EATG TREC training
DESCRIPTION:See EATG website
URL:https://setrec.org.uk/event/eatg-trec-training/
LOCATION:Kent
END:VEVENT
BEGIN:VEVENT
DTSTART;TZID=Europe/London:20250316T100000
DTEND;TZID=Europe/London:20250316T140000
DTSTAMP:20260419T170323
CREATED:20250109T082246Z
LAST-MODIFIED:20250303T181433Z
UID:598-1742119200-1742133600@setrec.org.uk
SUMMARY:Map Club - Kent
DESCRIPTION:Join us at Perry Woods car park on foot from 10am for your choice of various training exercises from basic orienteering to grids and bearings. The local Rose & Crown opens at 12 for refreshments. \nWe will also have TREC GB hat taggers available for anyone wishing to get their hat tagged ready for the new season. \nPlease use the Contact form or email info@ to let us know you if you are planning to attend.
URL:https://setrec.org.uk/event/map-club-2/
LOCATION:Perry Woods\, Selling\, Kent\, ME13 6RP
END:VEVENT
BEGIN:VEVENT
DTSTART;VALUE=DATE:20250309
DTEND;VALUE=DATE:20250310
DTSTAMP:20260419T170323
CREATED:20240926T104731Z
LAST-MODIFIED:20250209T211930Z
UID:273-1741478400-1741564799@setrec.org.uk
SUMMARY:Arena TREC competition - Sands Farm EC
DESCRIPTION:Schedule is currently available to download from www.trec.gb.com or South East TREC Facebook page under Files. There is a separate entry form in Word. Or apply directly to jenny.snowdon@btopenworld.com \nContact – jenny.snowdon@btopenworld.com
URL:https://setrec.org.uk/event/arena-trec-competition-sands-farm-ec-3/
LOCATION:Sands Farm Equitation Centre\, Sands Farm\, Northlands Rd\, Warnham\, Horsham\, RH12 3SQ\, United Kingdom
END:VEVENT
BEGIN:VEVENT
DTSTART;VALUE=DATE:20250302
DTEND;VALUE=DATE:20250303
DTSTAMP:20260419T170323
CREATED:20241114T194324Z
LAST-MODIFIED:20241114T194324Z
UID:396-1740873600-1740959999@setrec.org.uk
SUMMARY:EATG Arena TREC  (Outside the LEZ)
DESCRIPTION:
URL:https://setrec.org.uk/event/eatg-arena-trec-outside-the-lez-2/
LOCATION:Woodlands Stable\,  Epping
END:VEVENT
BEGIN:VEVENT
DTSTART;VALUE=DATE:20250301
DTEND;VALUE=DATE:20250302
DTSTAMP:20260419T170323
CREATED:20250225T095855Z
LAST-MODIFIED:20250225T100201Z
UID:685-1740787200-1740873599@setrec.org.uk
SUMMARY:Willow Farm - Start times
DESCRIPTION:01Mar25
URL:https://setrec.org.uk/event/willow-farm-start-times-3/
LOCATION:Kent
END:VEVENT
BEGIN:VEVENT
DTSTART;VALUE=DATE:20250301
DTEND;VALUE=DATE:20250302
DTSTAMP:20260419T170323
CREATED:20250209T121821Z
LAST-MODIFIED:20250209T121821Z
UID:640-1740787200-1740873599@setrec.org.uk
SUMMARY:Willow Farm Schedule
DESCRIPTION:Willow-Farm-Winter-Series-2024.25-Schedule-March 25
URL:https://setrec.org.uk/event/willow-farm-schedule-2/
LOCATION:Kent
END:VEVENT
BEGIN:VEVENT
DTSTART;VALUE=DATE:20250301
DTEND;VALUE=DATE:20250302
DTSTAMP:20260419T170323
CREATED:20240926T104704Z
LAST-MODIFIED:20240926T104704Z
UID:271-1740787200-1740873599@setrec.org.uk
SUMMARY:Arena TREC Competition
DESCRIPTION:Contact: rigshill.trec@gmail.com
URL:https://setrec.org.uk/event/arena-trec-competition-7/
LOCATION:Willow Farm Equestrian\, Hanslett's Ln\, Faversham\, ME13 0RS\, United Kingdom
END:VEVENT
END:VCALENDAR