BEGIN:VCALENDAR
VERSION:2.0
PRODID:-//South East TREC - ECPv6.11.2//NONSGML v1.0//EN
CALSCALE:GREGORIAN
METHOD:PUBLISH
X-WR-CALNAME:South East TREC
X-ORIGINAL-URL:https://setrec.org.uk
X-WR-CALDESC:Events for South East TREC
REFRESH-INTERVAL;VALUE=DURATION:PT1H
X-Robots-Tag:noindex
X-PUBLISHED-TTL:PT1H
BEGIN:VTIMEZONE
TZID:Europe/London
BEGIN:DAYLIGHT
TZOFFSETFROM:+0000
TZOFFSETTO:+0100
TZNAME:BST
DTSTART:20240331T010000
END:DAYLIGHT
BEGIN:STANDARD
TZOFFSETFROM:+0100
TZOFFSETTO:+0000
TZNAME:GMT
DTSTART:20241027T010000
END:STANDARD
END:VTIMEZONE
BEGIN:VEVENT
DTSTART;VALUE=DATE:20241103
DTEND;VALUE=DATE:20241104
DTSTAMP:20260420T225945
CREATED:20240926T104234Z
LAST-MODIFIED:20240926T104234Z
UID:255-1730592000-1730678399@setrec.org.uk
SUMMARY:Arena TREC Competition
DESCRIPTION:Contact: rigshill.trec@gmail.com
URL:https://setrec.org.uk/event/arena-trec-competition-2/
LOCATION:Willow Farm Equestrian\, Hanslett's Ln\, Faversham\, ME13 0RS\, United Kingdom
END:VEVENT
BEGIN:VEVENT
DTSTART;VALUE=DATE:20241123
DTEND;VALUE=DATE:20241124
DTSTAMP:20260420T225945
CREATED:20241114T193849Z
LAST-MODIFIED:20241114T194111Z
UID:389-1732320000-1732406399@setrec.org.uk
SUMMARY:EATG  Arena TREC  (Outside the LEZ)
DESCRIPTION:
URL:https://setrec.org.uk/event/eatg-arena-trec-outside-the-lez/
LOCATION:Kent
END:VEVENT
BEGIN:VEVENT
DTSTART;VALUE=DATE:20241124
DTEND;VALUE=DATE:20241125
DTSTAMP:20260420T225945
CREATED:20240926T104403Z
LAST-MODIFIED:20240926T104403Z
UID:257-1732406400-1732492799@setrec.org.uk
SUMMARY:Arena TREC Competition\, Bodiam
DESCRIPTION:Contact – claremccullough7@gmail.com
URL:https://setrec.org.uk/event/arena-trec-competition-bodiam-2/
LOCATION:Bodiam International Arena\, Bodiam\, Robertsbridge\, TN32 5UJ\, United Kingdom
END:VEVENT
END:VCALENDAR